BEGIN:VCALENDAR
VERSION:2.0
PRODID:-//Library Market//iCal Export//EN
BEGIN:VEVENT
SUMMARY:Pearson VUE GED Testing
UID:59225
DTSTAMP:20260419T132100Z
DTSTART:20260624T150000Z
DTEND:20260624T190000Z
LOCATION:210 South Broadway Street, Medina, OH 44256, United States
ROOM: Computer Lab
DESCRIPTION:Learn more or schedule your test at mcdl.info/GED
URL:https://medinacounty.librarycalendar.com/event/pearson-vue-ged-testing
 -59225
END:VEVENT
END:VCALENDAR
