BEGIN:VCALENDAR
VERSION:2.0
PRODID:-//Library Market//iCal Export//EN
BEGIN:VEVENT
SUMMARY:Homeschool Club: Art
UID:50841
DTSTAMP:20260419T125300Z
DTSTART:20260317T170000Z
DTEND:20260317T180000Z
LOCATION:210 South Broadway Street, Medina, OH 44256, United States
ROOM: Medina Community Room A &amp; B
DESCRIPTION:Learn about an artistic movement in history and make art inspi
 red by the style. Today’s focus: ImpressionismNote: Children K-2 welcome
 , but may need additional help through projects. Please ensure that younge
 r children have a caregiver or older sibling able to assist when needed. 
URL:https://medinacounty.librarycalendar.com/event/homeschool-club-art-508
 41
END:VEVENT
END:VCALENDAR
