BEGIN:VCALENDAR
VERSION:2.0
PRODID:-//Library Market//iCal Export//EN
BEGIN:VEVENT
SUMMARY:Cozy Mystery Series with Anastasia Hastings
UID:47188
DTSTAMP:20260420T025800Z
DTSTART:20260225T233000Z
DTEND:20260226T003000Z
LOCATION:210 South Broadway Street, Medina, OH 44256, United States
ROOM: Cozy Mystery Series with Anastasia Hastings
DESCRIPTION:Discuss Of Manners and Murder in a cozy fireside setting with 
 Anastasia Hastings. Anastasia (Connie Laux) is the bestselling author of c
 ozy and historical mysteries under many pseudonyms. She lives in Brecksvil
 le.Book sale and signing following events. Blizzard date: Mar. 4
URL:https://medinacounty.librarycalendar.com/event/cozy-mystery-series-ana
 stasia-hastings-47188
END:VEVENT
END:VCALENDAR
