BEGIN:VCALENDAR
VERSION:2.0
PRODID:-//Library Market//iCal Export//EN
BEGIN:VEVENT
SUMMARY:Family History Series: Medina County Clerk of Courts Records
UID:29503
DTSTAMP:20260421T045500Z
DTSTART:20260307T190000Z
DTEND:20260307T200000Z
LOCATION:210 South Broadway Street, Medina, OH 44256, United States
ROOM: Medina Community Room A
DESCRIPTION:Learn about the Medina County Clerk of Courts Office. Discover
  records they collect and how to access them. Presented by Kim Mihalko, Me
 dina County Deputy Clerk of Courts. Optional viewing on Zoom. Sponsored by
  the Medina County Genealogical Society.  
URL:https://medinacounty.librarycalendar.com/event/clerk-of-courts-03-2026
END:VEVENT
END:VCALENDAR
